Package: Mergeomics Version: 1.37.0 Command: /Library/Frameworks/R.framework/Resources/bin/R CMD INSTALL Mergeomics StartedAt: 2025-10-19 15:05:45 -0400 (Sun, 19 Oct 2025) EndedAt: 2025-10-19 15:06:05 -0400 (Sun, 19 Oct 2025) EllapsedTime: 20.3 seconds RetCode: 0 Status: OK