Package: Mergeomics Version: 1.37.0 Command: rm -rf Mergeomics.buildbin-libdir && mkdir Mergeomics.buildbin-libdir && /Users/biocbuild/BBS/utils/build-universal.sh Mergeomics_1.37.0.tar.gz /Library/Frameworks/R.framework/Resources/bin/R Mergeomics.buildbin-libdir StartedAt: 2025-10-21 03:20:14 -0400 (Tue, 21 Oct 2025) EndedAt: 2025-10-21 03:20:24 -0400 (Tue, 21 Oct 2025) EllapsedTime: 10.2 seconds RetCode: 0 Status: OK PackageFile: Mergeomics_1.37.0.tgz PackageFileSize: 3.419 MiB