Package: Mergeomics Version: 1.37.0 Command: /Library/Frameworks/R.framework/Resources/bin/R CMD check --install=check:Mergeomics.install-out.txt --library=/Library/Frameworks/R.framework/Resources/library --no-vignettes --timings Mergeomics_1.37.0.tar.gz StartedAt: 2025-10-19 20:31:29 -0400 (Sun, 19 Oct 2025) EndedAt: 2025-10-19 20:34:22 -0400 (Sun, 19 Oct 2025) EllapsedTime: 173.1 seconds RetCode: 0 Status: OK CheckDir: Mergeomics.Rcheck Warnings: 0