Package: Melissa Version: 1.25.0 Command: /home/biocbuild/R/R/bin/R CMD INSTALL Melissa StartedAt: 2025-10-06 20:45:19 -0000 (Mon, 06 Oct 2025) EndedAt: 2025-10-06 20:45:45 -0000 (Mon, 06 Oct 2025) EllapsedTime: 26.8 seconds RetCode: 0 Status: OK