Package: Melissa Version: 1.25.0 Command: /home/biocbuild/bbs-3.22-bioc/R/bin/R CMD INSTALL Melissa StartedAt: 2025-10-05 15:30:06 -0400 (Sun, 05 Oct 2025) EndedAt: 2025-10-05 15:30:26 -0400 (Sun, 05 Oct 2025) EllapsedTime: 19.5 seconds RetCode: 0 Status: OK