Package: Melissa Version: 1.26.0 Command: /Library/Frameworks/R.framework/Resources/bin/R CMD build --keep-empty-dirs --no-resave-data Melissa StartedAt: 2025-11-03 17:38:43 -0500 (Mon, 03 Nov 2025) EndedAt: 2025-11-03 17:41:47 -0500 (Mon, 03 Nov 2025) EllapsedTime: 184.1 seconds RetCode: 0 Status: OK PackageFile: Melissa_1.26.0.tar.gz PackageFileSize: 2.884 MiB