Package: Melissa Version: 1.26.0 Command: rm -rf Melissa.buildbin-libdir && mkdir Melissa.buildbin-libdir && /Users/biocbuild/BBS/utils/build-universal.sh Melissa_1.26.0.tar.gz /Library/Frameworks/R.framework/Resources/bin/R Melissa.buildbin-libdir StartedAt: 2025-11-04 01:48:24 -0500 (Tue, 04 Nov 2025) EndedAt: 2025-11-04 01:48:57 -0500 (Tue, 04 Nov 2025) EllapsedTime: 33.1 seconds RetCode: 0 Status: OK PackageFile: Melissa_1.26.0.tgz PackageFileSize: 4.376 MiB