Package: Melissa Version: 1.25.0 Command: /Library/Frameworks/R.framework/Resources/bin/R CMD build --keep-empty-dirs --no-resave-data Melissa StartedAt: 2025-10-03 16:54:40 -0400 (Fri, 03 Oct 2025) EndedAt: 2025-10-03 16:55:40 -0400 (Fri, 03 Oct 2025) EllapsedTime: 59.7 seconds RetCode: 0 Status: OK PackageFile: Melissa_1.25.0.tar.gz PackageFileSize: 2.884 MiB