Package: MeSHDbi Version: 1.45.0 Command: /home/biocbuild/R/R/bin/R CMD INSTALL MeSHDbi StartedAt: 2025-10-16 21:45:12 -0000 (Thu, 16 Oct 2025) EndedAt: 2025-10-16 21:45:28 -0000 (Thu, 16 Oct 2025) EllapsedTime: 16.3 seconds RetCode: 0 Status: OK