Package: MeSHDbi Version: 1.45.0 Command: /home/biocbuild/R/R/bin/R CMD build --keep-empty-dirs --no-resave-data MeSHDbi StartedAt: 2025-10-21 01:01:31 -0000 (Tue, 21 Oct 2025) EndedAt: 2025-10-21 01:01:50 -0000 (Tue, 21 Oct 2025) EllapsedTime: 19.0 seconds RetCode: 0 Status: OK PackageFile: MeSHDbi_1.45.0.tar.gz PackageFileSize: 114.9 KiB