Package: MeSHDbi Version: 1.45.0 Command: /Library/Frameworks/R.framework/Resources/bin/R CMD INSTALL MeSHDbi StartedAt: 2025-10-21 15:10:14 -0400 (Tue, 21 Oct 2025) EndedAt: 2025-10-21 15:10:20 -0400 (Tue, 21 Oct 2025) EllapsedTime: 5.3 seconds RetCode: 0 Status: OK