Package: MeSHDbi Version: 1.45.0 Command: /Library/Frameworks/R.framework/Resources/bin/R CMD check --install=check:MeSHDbi.install-out.txt --library=/Library/Frameworks/R.framework/Resources/library --no-vignettes --timings MeSHDbi_1.45.0.tar.gz StartedAt: 2025-10-20 20:33:25 -0400 (Mon, 20 Oct 2025) EndedAt: 2025-10-20 20:34:05 -0400 (Mon, 20 Oct 2025) EllapsedTime: 40.5 seconds RetCode: 0 Status: OK CheckDir: MeSHDbi.Rcheck Warnings: 0