Package: MeSHDbi Version: 1.45.0 Command: rm -rf MeSHDbi.buildbin-libdir && mkdir MeSHDbi.buildbin-libdir && /Users/biocbuild/BBS/utils/build-universal.sh MeSHDbi_1.45.0.tar.gz /Library/Frameworks/R.framework/Resources/bin/R MeSHDbi.buildbin-libdir StartedAt: 2025-10-20 23:06:18 -0400 (Mon, 20 Oct 2025) EndedAt: 2025-10-20 23:06:24 -0400 (Mon, 20 Oct 2025) EllapsedTime: 6.2 seconds RetCode: 0 Status: OK PackageFile: MeSHDbi_1.45.0.tgz PackageFileSize: 534.8 KiB