Package: MatrixRider Version: 1.41.0 Command: /home/biocbuild/R/R/bin/R CMD check --install=check:MatrixRider.install-out.txt --library=/home/biocbuild/R/R/site-library --no-vignettes --timings MatrixRider_1.41.0.tar.gz StartedAt: 2025-10-17 10:41:55 -0000 (Fri, 17 Oct 2025) EndedAt: 2025-10-17 10:47:07 -0000 (Fri, 17 Oct 2025) EllapsedTime: 311.3 seconds RetCode: 0 Status: WARNINGS CheckDir: MatrixRider.Rcheck Warnings: 1