Package: MatrixRider Version: 1.41.0 Command: /home/biocbuild/R/R/bin/R CMD build --keep-empty-dirs --no-resave-data MatrixRider StartedAt: 2025-10-17 02:22:17 -0000 (Fri, 17 Oct 2025) EndedAt: 2025-10-17 02:23:22 -0000 (Fri, 17 Oct 2025) EllapsedTime: 64.0 seconds RetCode: 0 Status: OK PackageFile: MatrixRider_1.41.0.tar.gz PackageFileSize: 251.5 KiB