Package: MatrixRider Version: 1.41.0 Command: /home/biocbuild/bbs-3.22-bioc/R/bin/R CMD check --install=check:MatrixRider.install-out.txt --library=/home/biocbuild/bbs-3.22-bioc/R/site-library --timings MatrixRider_1.41.0.tar.gz StartedAt: 2025-10-20 01:32:54 -0400 (Mon, 20 Oct 2025) EndedAt: 2025-10-20 01:37:11 -0400 (Mon, 20 Oct 2025) EllapsedTime: 257.2 seconds RetCode: 0 Status: WARNINGS CheckDir: MatrixRider.Rcheck Warnings: 1