Package: MatrixRider Version: 1.41.0 Command: /home/biocbuild/bbs-3.22-bioc/R/bin/R CMD build --keep-empty-dirs --no-resave-data --md5 MatrixRider StartedAt: 2025-10-19 18:28:11 -0400 (Sun, 19 Oct 2025) EndedAt: 2025-10-19 18:29:02 -0400 (Sun, 19 Oct 2025) EllapsedTime: 51.0 seconds RetCode: 0 Status: OK PackageFile: MatrixRider_1.41.0.tar.gz PackageFileSize: 264.8 KiB