Package: MatrixRider Version: 1.41.0 Command: /Library/Frameworks/R.framework/Resources/bin/R CMD check --install=check:MatrixRider.install-out.txt --library=/Library/Frameworks/R.framework/Resources/library --no-vignettes --timings MatrixRider_1.41.0.tar.gz StartedAt: 2025-10-19 20:28:40 -0400 (Sun, 19 Oct 2025) EndedAt: 2025-10-19 20:30:18 -0400 (Sun, 19 Oct 2025) EllapsedTime: 98.2 seconds RetCode: 0 Status: WARNINGS CheckDir: MatrixRider.Rcheck Warnings: 1