Package: MatrixQCvis Version: 1.17.1 Command: /Library/Frameworks/R.framework/Resources/bin/R CMD INSTALL MatrixQCvis StartedAt: 2025-10-19 15:35:53 -0400 (Sun, 19 Oct 2025) EndedAt: 2025-10-19 15:36:50 -0400 (Sun, 19 Oct 2025) EllapsedTime: 56.7 seconds RetCode: 0 Status: OK