Package: MatrixQCvis Version: 1.17.1 Command: /Library/Frameworks/R.framework/Resources/bin/R CMD build --keep-empty-dirs --no-resave-data MatrixQCvis StartedAt: 2025-10-20 17:53:25 -0400 (Mon, 20 Oct 2025) EndedAt: 2025-10-20 17:57:40 -0400 (Mon, 20 Oct 2025) EllapsedTime: 255.0 seconds RetCode: 0 Status: OK PackageFile: MatrixQCvis_1.17.1.tar.gz PackageFileSize: 4.867 MiB