Package: MatrixQCvis Version: 1.17.1 Command: rm -rf MatrixQCvis.buildbin-libdir && mkdir MatrixQCvis.buildbin-libdir && /Users/biocbuild/BBS/utils/build-universal.sh MatrixQCvis_1.17.1.tar.gz /Library/Frameworks/R.framework/Resources/bin/R MatrixQCvis.buildbin-libdir StartedAt: 2025-10-21 03:19:53 -0400 (Tue, 21 Oct 2025) EndedAt: 2025-10-21 03:20:57 -0400 (Tue, 21 Oct 2025) EllapsedTime: 63.7 seconds RetCode: 0 Status: OK PackageFile: MatrixQCvis_1.17.1.tgz PackageFileSize: 5.117 MiB