Package: MatrixQCvis Version: 1.17.1 Command: /Library/Frameworks/R.framework/Resources/bin/R CMD build --keep-empty-dirs --no-resave-data MatrixQCvis StartedAt: 2025-10-21 16:55:41 -0400 (Tue, 21 Oct 2025) EndedAt: 2025-10-21 16:56:45 -0400 (Tue, 21 Oct 2025) EllapsedTime: 63.7 seconds RetCode: 0 Status: OK PackageFile: MatrixQCvis_1.17.1.tar.gz PackageFileSize: 4.891 MiB