Package: MassSpecWavelet Version: 1.75.1 Command: /home/biocbuild/R/R/bin/R CMD INSTALL MassSpecWavelet StartedAt: 2025-10-02 20:16:47 -0000 (Thu, 02 Oct 2025) EndedAt: 2025-10-02 20:16:57 -0000 (Thu, 02 Oct 2025) EllapsedTime: 10.0 seconds RetCode: 0 Status: OK