Package: MassSpecWavelet Version: 1.75.1 Command: /home/biocbuild/R/R/bin/R CMD check --install=check:MassSpecWavelet.install-out.txt --library=/home/biocbuild/R/R/site-library --no-vignettes --timings MassSpecWavelet_1.75.1.tar.gz StartedAt: 2025-10-03 08:40:10 -0000 (Fri, 03 Oct 2025) EndedAt: 2025-10-03 08:40:42 -0000 (Fri, 03 Oct 2025) EllapsedTime: 32.1 seconds RetCode: 0 Status: OK CheckDir: MassSpecWavelet.Rcheck Warnings: 0