Package: MassArray Version: 1.61.0 Command: /home/biocbuild/R/R/bin/R CMD INSTALL MassArray StartedAt: 2025-10-20 20:09:16 -0000 (Mon, 20 Oct 2025) EndedAt: 2025-10-20 20:09:26 -0000 (Mon, 20 Oct 2025) EllapsedTime: 10.5 seconds RetCode: 0 Status: OK