Package: MassArray Version: 1.61.0 Command: /Library/Frameworks/R.framework/Resources/bin/R CMD INSTALL MassArray StartedAt: 2025-10-20 15:04:17 -0400 (Mon, 20 Oct 2025) EndedAt: 2025-10-20 15:04:35 -0400 (Mon, 20 Oct 2025) EllapsedTime: 17.2 seconds RetCode: 0 Status: OK