Package: MassArray Version: 1.61.0 Command: /Library/Frameworks/R.framework/Resources/bin/R CMD INSTALL MassArray StartedAt: 2025-10-19 15:01:21 -0400 (Sun, 19 Oct 2025) EndedAt: 2025-10-19 15:01:23 -0400 (Sun, 19 Oct 2025) EllapsedTime: 2.1 seconds RetCode: 0 Status: OK