Package: MassArray Version: 1.61.0 Command: /Library/Frameworks/R.framework/Resources/bin/R CMD check --install=check:MassArray.install-out.txt --library=/Library/Frameworks/R.framework/Resources/library --no-vignettes --timings MassArray_1.61.0.tar.gz StartedAt: 2025-10-19 20:28:11 -0400 (Sun, 19 Oct 2025) EndedAt: 2025-10-19 20:28:29 -0400 (Sun, 19 Oct 2025) EllapsedTime: 17.2 seconds RetCode: 0 Status: OK CheckDir: MassArray.Rcheck Warnings: 0