Package: MassArray Version: 1.61.0 Command: rm -rf MassArray.buildbin-libdir && mkdir MassArray.buildbin-libdir && /Users/biocbuild/BBS/utils/build-universal.sh MassArray_1.61.0.tar.gz /Library/Frameworks/R.framework/Resources/bin/R MassArray.buildbin-libdir StartedAt: 2025-10-19 23:05:03 -0400 (Sun, 19 Oct 2025) EndedAt: 2025-10-19 23:05:06 -0400 (Sun, 19 Oct 2025) EllapsedTime: 3.1 seconds RetCode: 0 Status: OK PackageFile: MassArray_1.61.0.tgz PackageFileSize: 650.8 KiB