Package: MantelCorr Version: 1.79.0 Command: /home/biocbuild/bbs-3.22-bioc/R/bin/R CMD INSTALL MantelCorr StartedAt: 2025-10-19 15:03:17 -0400 (Sun, 19 Oct 2025) EndedAt: 2025-10-19 15:03:25 -0400 (Sun, 19 Oct 2025) EllapsedTime: 7.6 seconds RetCode: 0 Status: OK