Package: MantelCorr Version: 1.79.0 Command: /home/biocbuild/bbs-3.22-bioc/R/bin/R CMD build --keep-empty-dirs --no-resave-data --md5 MantelCorr StartedAt: 2025-10-20 18:22:01 -0400 (Mon, 20 Oct 2025) EndedAt: 2025-10-20 18:22:10 -0400 (Mon, 20 Oct 2025) EllapsedTime: 9.0 seconds RetCode: 0 Status: OK PackageFile: MantelCorr_1.79.0.tar.gz PackageFileSize: 938.3 KiB