Package: MantelCorr Version: 1.79.0 Command: /Library/Frameworks/R.framework/Resources/bin/R CMD check --install=check:MantelCorr.install-out.txt --library=/Library/Frameworks/R.framework/Resources/library --no-vignettes --timings MantelCorr_1.79.0.tar.gz StartedAt: 2025-10-19 23:29:40 -0400 (Sun, 19 Oct 2025) EndedAt: 2025-10-19 23:30:10 -0400 (Sun, 19 Oct 2025) EllapsedTime: 29.8 seconds RetCode: 0 Status: OK CheckDir: MantelCorr.Rcheck Warnings: 0