Package: MantelCorr Version: 1.79.0 Command: /Library/Frameworks/R.framework/Resources/bin/R CMD build --keep-empty-dirs --no-resave-data MantelCorr StartedAt: 2025-10-19 17:53:48 -0400 (Sun, 19 Oct 2025) EndedAt: 2025-10-19 17:54:08 -0400 (Sun, 19 Oct 2025) EllapsedTime: 19.5 seconds RetCode: 0 Status: OK PackageFile: MantelCorr_1.79.0.tar.gz PackageFileSize: 937.2 KiB