Package: Macarron Version: 1.13.2 Command: /Library/Frameworks/R.framework/Resources/bin/R CMD build --keep-empty-dirs --no-resave-data Macarron StartedAt: 2025-10-24 17:38:03 -0400 (Fri, 24 Oct 2025) EndedAt: 2025-10-24 17:45:13 -0400 (Fri, 24 Oct 2025) EllapsedTime: 430.2 seconds RetCode: 1 Status: ERROR PackageFile: None PackageFileSize: NA