Package: MWASTools Version: 1.33.0 Command: /Library/Frameworks/R.framework/Resources/bin/R CMD check --install=check:MWASTools.install-out.txt --library=/Library/Frameworks/R.framework/Resources/library --no-vignettes --timings MWASTools_1.33.0.tar.gz StartedAt: 2025-10-01 20:48:34 -0400 (Wed, 01 Oct 2025) EndedAt: 2025-10-01 20:50:10 -0400 (Wed, 01 Oct 2025) EllapsedTime: 96.4 seconds RetCode: 0 Status: OK CheckDir: MWASTools.Rcheck Warnings: 0