Package: MWASTools Version: 1.33.0 Command: rm -rf MWASTools.buildbin-libdir && mkdir MWASTools.buildbin-libdir && /Users/biocbuild/BBS/utils/build-universal.sh MWASTools_1.33.0.tar.gz /Library/Frameworks/R.framework/Resources/bin/R MWASTools.buildbin-libdir StartedAt: 2025-10-01 22:55:51 -0400 (Wed, 01 Oct 2025) EndedAt: 2025-10-01 22:56:05 -0400 (Wed, 01 Oct 2025) EllapsedTime: 14.2 seconds RetCode: 0 Status: OK PackageFile: MWASTools_1.33.0.tgz PackageFileSize: 2.104 MiB