Package: MSstatsTMT Version: 2.17.0 Command: /home/biocbuild/R/R/bin/R CMD build --keep-empty-dirs --no-resave-data MSstatsTMT StartedAt: 2025-10-17 03:03:37 -0000 (Fri, 17 Oct 2025) EndedAt: 2025-10-17 03:05:02 -0000 (Fri, 17 Oct 2025) EllapsedTime: 85.1 seconds RetCode: 0 Status: OK PackageFile: MSstatsTMT_2.17.0.tar.gz PackageFileSize: 1.532 MiB