Package: MSstatsTMT Version: 2.17.0 Command: chmod a+r MSstatsTMT -R && F:\biocbuild\bbs-3.22-bioc\R\bin\R.exe CMD build --keep-empty-dirs --no-resave-data MSstatsTMT StartedAt: 2025-08-14 21:47:15 -0400 (Thu, 14 Aug 2025) EndedAt: 2025-08-14 21:48:30 -0400 (Thu, 14 Aug 2025) EllapsedTime: 74.6 seconds RetCode: 0 Status: OK PackageFile: MSstatsTMT_2.17.0.tar.gz PackageFileSize: 1.531 MiB