Package: MSstatsTMT Version: 2.17.0 Command: /home/biocbuild/bbs-3.22-bioc/R/bin/R CMD INSTALL MSstatsTMT StartedAt: 2025-10-19 15:13:29 -0400 (Sun, 19 Oct 2025) EndedAt: 2025-10-19 15:13:41 -0400 (Sun, 19 Oct 2025) EllapsedTime: 12.4 seconds RetCode: 0 Status: OK