Package: MSstatsTMT Version: 2.17.0 Command: /home/biocbuild/bbs-3.22-bioc/R/bin/R CMD build --keep-empty-dirs --no-resave-data --md5 MSstatsTMT StartedAt: 2025-10-19 18:55:45 -0400 (Sun, 19 Oct 2025) EndedAt: 2025-10-19 18:56:41 -0400 (Sun, 19 Oct 2025) EllapsedTime: 55.1 seconds RetCode: 0 Status: OK PackageFile: MSstatsTMT_2.17.0.tar.gz PackageFileSize: 1.534 MiB