Package: MSstatsTMT Version: 2.17.0 Command: /Library/Frameworks/R.framework/Resources/bin/R CMD check --install=check:MSstatsTMT.install-out.txt --library=/Library/Frameworks/R.framework/Resources/library --no-vignettes --timings MSstatsTMT_2.17.0.tar.gz StartedAt: 2025-10-19 20:55:21 -0400 (Sun, 19 Oct 2025) EndedAt: 2025-10-19 20:56:17 -0400 (Sun, 19 Oct 2025) EllapsedTime: 55.6 seconds RetCode: 0 Status: OK CheckDir: MSstatsTMT.Rcheck Warnings: 0