Package: MSstatsTMT Version: 2.17.0 Command: /Library/Frameworks/R.framework/Resources/bin/R CMD build --keep-empty-dirs --no-resave-data MSstatsTMT StartedAt: 2025-10-19 17:07:36 -0400 (Sun, 19 Oct 2025) EndedAt: 2025-10-19 17:07:59 -0400 (Sun, 19 Oct 2025) EllapsedTime: 23.3 seconds RetCode: 0 Status: OK PackageFile: MSstatsTMT_2.17.0.tar.gz PackageFileSize: 1.531 MiB