Package: MSstatsShiny Version: 1.11.5 Command: /home/biocbuild/bbs-3.22-bioc/R/bin/R CMD INSTALL MSstatsShiny StartedAt: 2025-10-19 16:00:11 -0400 (Sun, 19 Oct 2025) EndedAt: 2025-10-19 16:00:43 -0400 (Sun, 19 Oct 2025) EllapsedTime: 32.0 seconds RetCode: 0 Status: OK