Package: MSstatsShiny Version: 1.11.6 Command: /Library/Frameworks/R.framework/Resources/bin/R CMD build --keep-empty-dirs --no-resave-data MSstatsShiny StartedAt: 2025-10-22 17:53:25 -0400 (Wed, 22 Oct 2025) EndedAt: 2025-10-22 17:54:30 -0400 (Wed, 22 Oct 2025) EllapsedTime: 65.0 seconds RetCode: 0 Status: OK PackageFile: MSstatsShiny_1.11.6.tar.gz PackageFileSize: 3.524 MiB