Package: MSstatsShiny Version: 1.11.6 Command: rm -rf MSstatsShiny.buildbin-libdir && mkdir MSstatsShiny.buildbin-libdir && /Users/biocbuild/BBS/utils/build-universal.sh MSstatsShiny_1.11.6.tar.gz /Library/Frameworks/R.framework/Resources/bin/R MSstatsShiny.buildbin-libdir StartedAt: 2025-10-23 01:44:31 -0400 (Thu, 23 Oct 2025) EndedAt: 2025-10-23 01:45:13 -0400 (Thu, 23 Oct 2025) EllapsedTime: 42.8 seconds RetCode: 0 Status: OK PackageFile: MSstatsShiny_1.11.6.tgz PackageFileSize: 3.684 MiB