Package: MSstatsShiny Version: 1.11.6 Command: /Library/Frameworks/R.framework/Resources/bin/R CMD check --install=check:MSstatsShiny.install-out.txt --library=/Library/Frameworks/R.framework/Resources/library --no-vignettes --timings MSstatsShiny_1.11.6.tar.gz StartedAt: 2025-10-21 20:57:25 -0400 (Tue, 21 Oct 2025) EndedAt: 2025-10-21 20:59:06 -0400 (Tue, 21 Oct 2025) EllapsedTime: 101.1 seconds RetCode: 0 Status: WARNINGS CheckDir: MSstatsShiny.Rcheck Warnings: 1