Package: MSstatsResponse Version: 0.99.2 Command: /Library/Frameworks/R.framework/Resources/bin/R CMD INSTALL MSstatsResponse StartedAt: 2025-10-24 15:18:45 -0400 (Fri, 24 Oct 2025) EndedAt: 2025-10-24 15:19:15 -0400 (Fri, 24 Oct 2025) EllapsedTime: 30.3 seconds RetCode: 0 Status: OK