Package: MSstatsResponse Version: 0.99.2 Command: /Library/Frameworks/R.framework/Resources/bin/R CMD check --install=check:MSstatsResponse.install-out.txt --library=/Library/Frameworks/R.framework/Resources/library --no-vignettes --timings MSstatsResponse_0.99.2.tar.gz StartedAt: 2025-10-27 23:17:46 -0400 (Mon, 27 Oct 2025) EndedAt: 2025-10-27 23:19:22 -0400 (Mon, 27 Oct 2025) EllapsedTime: 95.4 seconds RetCode: 0 Status: OK CheckDir: MSstatsResponse.Rcheck Warnings: 0