Package: MSstatsResponse Version: 0.99.2 Command: /Library/Frameworks/R.framework/Resources/bin/R CMD build --keep-empty-dirs --no-resave-data MSstatsResponse StartedAt: 2025-10-24 17:58:54 -0400 (Fri, 24 Oct 2025) EndedAt: 2025-10-24 18:00:26 -0400 (Fri, 24 Oct 2025) EllapsedTime: 92.4 seconds RetCode: 0 Status: OK PackageFile: MSstatsResponse_0.99.2.tar.gz PackageFileSize: 8.143 MiB