Package: MSstatsResponse Version: 0.99.2 Command: /Library/Frameworks/R.framework/Resources/bin/R CMD INSTALL MSstatsResponse StartedAt: 2025-10-26 15:05:05 -0400 (Sun, 26 Oct 2025) EndedAt: 2025-10-26 15:05:10 -0400 (Sun, 26 Oct 2025) EllapsedTime: 4.8 seconds RetCode: 0 Status: OK